BEGIN:VCALENDAR
VERSION:2.0
PRODID:-//Sokolík Silůvky - ECPv5.16.4//NONSGML v1.0//EN
CALSCALE:GREGORIAN
METHOD:PUBLISH
X-WR-CALNAME:Sokolík Silůvky
X-ORIGINAL-URL:http://sokolik.siluvky.cz
X-WR-CALDESC:Akce na Sokolík Silůvky
BEGIN:VTIMEZONE
TZID:Europe/Prague
BEGIN:DAYLIGHT
TZOFFSETFROM:+0100
TZOFFSETTO:+0200
TZNAME:CEST
DTSTART:20190331T010000
END:DAYLIGHT
BEGIN:STANDARD
TZOFFSETFROM:+0200
TZOFFSETTO:+0100
TZNAME:CET
DTSTART:20191027T010000
END:STANDARD
END:VTIMEZONE
BEGIN:VEVENT
DTSTART;TZID=Europe/Prague:20191129T180000
DTEND;TZID=Europe/Prague:20191130T120000
DTSTAMP:20260419T175035
CREATED:20190823T113501Z
LAST-MODIFIED:20191115T113819Z
UID:901-1575050400-1575115200@sokolik.siluvky.cz
SUMMARY:Akce pro rádce
DESCRIPTION:Akce pro rádce z minulého i letošního Rádcáku. Schůzky proběhnou klasicky. Přihlašování do 17.11. (viz pdf link) \nAkce pro radce
URL:http://sokolik.siluvky.cz/event/akce-pro-radce/
END:VEVENT
END:VCALENDAR