BEGIN:VCALENDAR
VERSION:2.0
PRODID:-//Sokolík Silůvky - ECPv5.16.4//NONSGML v1.0//EN
CALSCALE:GREGORIAN
METHOD:PUBLISH
X-WR-CALNAME:Sokolík Silůvky
X-ORIGINAL-URL:http://sokolik.siluvky.cz
X-WR-CALDESC:Akce na Sokolík Silůvky
BEGIN:VTIMEZONE
TZID:Europe/Prague
BEGIN:DAYLIGHT
TZOFFSETFROM:+0100
TZOFFSETTO:+0200
TZNAME:CEST
DTSTART:20190331T010000
END:DAYLIGHT
BEGIN:STANDARD
TZOFFSETFROM:+0200
TZOFFSETTO:+0100
TZNAME:CET
DTSTART:20191027T010000
END:STANDARD
END:VTIMEZONE
BEGIN:VEVENT
DTSTART;TZID=Europe/Prague:20191019T090000
DTEND;TZID=Europe/Prague:20191019T163000
DTSTAMP:20260420T005716
CREATED:20190823T100240Z
LAST-MODIFIED:20191016T145504Z
UID:894-1571475600-1571502600@sokolik.siluvky.cz
SUMMARY:Drakiáda a stavění draků
DESCRIPTION:Rok se s rokem sešel a opět nás čeká naše oblíbená drakiáda! \nTentokrát začneme už v sobotu dopoledne v klubovně\, kde budeme vyrábět draky. Pokud jste draka nikdy nevyráběli\, nemusíte se bát. Vedoucí vám s výrobou ochotně pomůžou a poradí. \nOdpoledne proběhne na letišti v Silůvkách přestižní soutěž – drakiáda. Hodnotí se krása\, výška letu\, nejlepší manévrování a nejoriginálnější drak. Počasí máme objednané\, nemusíte se bát. 😉 \nBudeme opravdu rádi\, když si draka dopoledne příjdete vyrobit\, nebo si ho vyrobíte doma\, aby jich bylo co nejméně kupovaných. \nSraz na stavění: 9:00 v klubovně \nS sebou: nožík a pití (ostatní věci na výrobu pro vás máme nachystané) \nSraz na drakiádu: 13:30 u klubovny (můžete samozřejmě přijít až ve 14:00 přímo na letiště) \nZačátek drakiády: 14:00 na letišti v Silůvkách \nPředpokládaný konec: kolem 16:30
URL:http://sokolik.siluvky.cz/event/drakiada-a-staveni-draku/
LOCATION:letiště Silůvky\, Silůvky
END:VEVENT
END:VCALENDAR