BEGIN:VCALENDAR
VERSION:2.0
PRODID:-//Sokolík Silůvky - ECPv5.16.4//NONSGML v1.0//EN
CALSCALE:GREGORIAN
METHOD:PUBLISH
X-WR-CALNAME:Sokolík Silůvky
X-ORIGINAL-URL:http://sokolik.siluvky.cz
X-WR-CALDESC:Akce na Sokolík Silůvky
BEGIN:VTIMEZONE
TZID:Europe/Prague
BEGIN:DAYLIGHT
TZOFFSETFROM:+0100
TZOFFSETTO:+0200
TZNAME:CEST
DTSTART:20190331T010000
END:DAYLIGHT
BEGIN:STANDARD
TZOFFSETFROM:+0200
TZOFFSETTO:+0100
TZNAME:CET
DTSTART:20191027T010000
END:STANDARD
END:VTIMEZONE
BEGIN:VEVENT
DTSTART;VALUE=DATE:20191123
DTEND;VALUE=DATE:20191125
DTSTAMP:20260419T194506
CREATED:20191111T195503Z
LAST-MODIFIED:20191117T134145Z
UID:997-1574467200-1574639999@sokolik.siluvky.cz
SUMMARY:Jeskyňářská výprava
DESCRIPTION:O víkendu 23.-24.11. se vydáme na jeskyňářskou výpravu do Moravského krasu. Akce bude fyzicky náročná\, a proto je pouze pro HAVRANY a AMAZONKY (schůzka mladších se ruší). Sraz je v sobotu v 5:20 na vlakovém nádraží v Silůvkách. Očekávaný návrat v neděli v 17:20. \nS sebou: krosna\, pevná obuv\, holínky\, dostatek TEPLÉHO oblečení\, které se může zničit a zašpinit\, náhradní oblečení\, ponožky navíc\, čelovka\, spacák\, hygienické potřeby\, sobotní snídaně\, špekáčky\, půlku chleba\, 2 litry vody\, 300 Kč \nCelý den se budeme pohybovat ve vlhkých a chladných jeskyních a určitě se zašpiní. Proto jim prosím dejte vhodné oblečení. \nDěti prosím NAHLAŠUJTE do 20.11.2019 na adresu betybrabencova@gmail.com
URL:http://sokolik.siluvky.cz/event/jeskynarska-vyprava/
LOCATION:Moravský kras
END:VEVENT
END:VCALENDAR