BEGIN:VCALENDAR
VERSION:2.0
PRODID:-//Sokolík Silůvky - ECPv5.16.4//NONSGML v1.0//EN
CALSCALE:GREGORIAN
METHOD:PUBLISH
X-WR-CALNAME:Sokolík Silůvky
X-ORIGINAL-URL:http://sokolik.siluvky.cz
X-WR-CALDESC:Akce na Sokolík Silůvky
BEGIN:VTIMEZONE
TZID:Europe/Prague
BEGIN:DAYLIGHT
TZOFFSETFROM:+0100
TZOFFSETTO:+0200
TZNAME:CEST
DTSTART:20200329T010000
END:DAYLIGHT
BEGIN:STANDARD
TZOFFSETFROM:+0200
TZOFFSETTO:+0100
TZNAME:CET
DTSTART:20201025T010000
END:STANDARD
END:VTIMEZONE
BEGIN:VEVENT
DTSTART;TZID=Europe/Prague:20201121T080000
DTEND;TZID=Europe/Prague:20201231T170000
DTSTAMP:20260420T025941
CREATED:20201109T230211Z
LAST-MODIFIED:20201121T114919Z
UID:1652-1605945600-1609434000@sokolik.siluvky.cz
SUMMARY:Oddílový Adventure
DESCRIPTION:Jelikož nám vypadlo několik oddílových akcí\, rozhodli jsme se navázat na úspěchy Šifrovačky\, tentokrát však v jiném formátu. Jedná se o Oddílový Adventure\, který odstartujeme v sobotu 21. 11.\, bude dostupný do konce kalendářního roku nebo později\, a to i v případě\, kdyby v tu dobu probíhaly běžné schůzky. Na základě svobodné volby založené na vlastní intuici si budeš volit postup své cesty. Veškerý postup bude probíhat na našich oddílových stránkách. Pravidla i hru samotnou nalezneš zde.
URL:http://sokolik.siluvky.cz/event/oddilovy-adventure/
LOCATION:Silůvky\, Sokolská 132\, Silůvky (CZ)\, Česká republika\, 66446
ATTACH;FMTTYPE=image/jpeg:http://sokolik.siluvky.cz/wp-content/uploads/2020/11/366692-HL-Your_COVID_19_Choose_Your_Own_Adventure_Mental_Health_Guide-1296x728-Header.jpg
END:VEVENT
END:VCALENDAR