BEGIN:VCALENDAR
VERSION:2.0
PRODID:-//Sokolík Silůvky - ECPv5.16.4//NONSGML v1.0//EN
CALSCALE:GREGORIAN
METHOD:PUBLISH
X-WR-CALNAME:Sokolík Silůvky
X-ORIGINAL-URL:http://sokolik.siluvky.cz
X-WR-CALDESC:Akce na Sokolík Silůvky
BEGIN:VTIMEZONE
TZID:Europe/Prague
BEGIN:DAYLIGHT
TZOFFSETFROM:+0100
TZOFFSETTO:+0200
TZNAME:CEST
DTSTART:20200329T010000
END:DAYLIGHT
BEGIN:STANDARD
TZOFFSETFROM:+0200
TZOFFSETTO:+0100
TZNAME:CET
DTSTART:20201025T010000
END:STANDARD
END:VTIMEZONE
BEGIN:VEVENT
DTSTART;TZID=Europe/Prague:20201127T170000
DTEND;TZID=Europe/Prague:20201128T090000
DTSTAMP:20260420T044926
CREATED:20200831T202409Z
LAST-MODIFIED:20201109T223627Z
UID:1424-1606496400-1606554000@sokolik.siluvky.cz
SUMMARY:Přespávačka - zrušeno
DESCRIPTION:Zrušeno kvůli koronavirové situaci.
URL:http://sokolik.siluvky.cz/event/prespavacka-2/
LOCATION:klubovna\, Sokolská 132\, Silůvky\, Jihomoravský\, 66446
END:VEVENT
END:VCALENDAR