BEGIN:VCALENDAR
VERSION:2.0
PRODID:-//Sokolík Silůvky - ECPv5.16.4//NONSGML v1.0//EN
CALSCALE:GREGORIAN
METHOD:PUBLISH
X-WR-CALNAME:Sokolík Silůvky
X-ORIGINAL-URL:http://sokolik.siluvky.cz
X-WR-CALDESC:Akce na Sokolík Silůvky
BEGIN:VTIMEZONE
TZID:Europe/Prague
BEGIN:DAYLIGHT
TZOFFSETFROM:+0100
TZOFFSETTO:+0200
TZNAME:CEST
DTSTART:20190331T010000
END:DAYLIGHT
BEGIN:STANDARD
TZOFFSETFROM:+0200
TZOFFSETTO:+0100
TZNAME:CET
DTSTART:20191027T010000
END:STANDARD
END:VTIMEZONE
BEGIN:VEVENT
DTSTART;TZID=Europe/Prague:20190928T080000
DTEND;TZID=Europe/Prague:20190929T170000
DTSTAMP:20260420T043239
CREATED:20190823T094937Z
LAST-MODIFIED:20190927T065358Z
UID:889-1569657600-1569776400@sokolik.siluvky.cz
SUMMARY:Scout point
DESCRIPTION:Akce pro přihlášené rovery. \nPozor! Tuto sobotu 28.9. proběhnou obě schůzky v obvyklých časech! Tj. Vlčata a Berušky od 9 do 11. Havrani a Amazonky od 13 do 15 hod. Konec hlášení 😀
URL:http://sokolik.siluvky.cz/event/scout-point/
LOCATION:Čučice\, Čučice\, Česká republika
END:VEVENT
END:VCALENDAR