BEGIN:VCALENDAR
VERSION:2.0
PRODID:-//Sokolík Silůvky - ECPv5.16.4//NONSGML v1.0//EN
CALSCALE:GREGORIAN
METHOD:PUBLISH
X-WR-CALNAME:Sokolík Silůvky
X-ORIGINAL-URL:http://sokolik.siluvky.cz
X-WR-CALDESC:Akce na Sokolík Silůvky
BEGIN:VTIMEZONE
TZID:Europe/Prague
BEGIN:DAYLIGHT
TZOFFSETFROM:+0100
TZOFFSETTO:+0200
TZNAME:CEST
DTSTART:20200329T010000
END:DAYLIGHT
BEGIN:STANDARD
TZOFFSETFROM:+0200
TZOFFSETTO:+0100
TZNAME:CET
DTSTART:20201025T010000
END:STANDARD
END:VTIMEZONE
BEGIN:VEVENT
DTSTART;TZID=Europe/Prague:20201026T073000
DTEND;TZID=Europe/Prague:20201030T180000
DTSTAMP:20260419T215411
CREATED:20201011T145530Z
LAST-MODIFIED:20201027T211700Z
UID:1486-1603697400-1604080800@sokolik.siluvky.cz
SUMMARY:Šifrovačka okolím Silůvek
DESCRIPTION:Neseď o Podzimních prázdninách doma a zabojuj o unikátní žetony do Celoročních her. Celkem můžeš získat 5 žetonů (26. 10 – 30.10.)\, které tě budou čekat v cíli denních šifrovacích výzev. Tyto žetony můžeš sbírat od rána po zveřejnění nápovědy do pátečního západu slunce\, kdy výzva končí. \nJak budeme zveřejňovat denní nápovědy? \n\nVečer před každým pracovním dnem zveřejníme nápovědu v sekci Aktuality na našich oddílových stránkách (www.sokolik.siluvky.cz) a na oddílovém Facebooku.\n\nMůžou hrát hru i neskauti? \n\nAno\, můžou. Žetonů bude dost. V tomto případě jim žeton zůstane jako památka za splněnou úlohu.\n\nJak žetony poznám? \n\nBudou umístěny v oranžových/hnědých váčcích. 1 člověk může vzít jen 1 žeton. Je zakázáno žetony měnit nebo brát někomu jinému.\n\nMůžu hledat ve skupině? \n\nPravidla zakazují skupiny 3 a více členů\, nechceme totiž zvýhodňovat velké skupiny oproti hledačům jednotlivcům. Výjimku mají rodiny\, které můžou hledat v libovolném počtu a prvňáci/předškoláci\, kteří se můžou připojit ke skupině\, i kdyby jich mělo být 3 a víc.\n\nMůžu používat mobil a internet? \n\nAno\, pokud si myslíš\, že ti pomůže.\n\nMůžu napovídat ostatním hledačům? \n\nNe. Žeton si zaslouží jen ten\, kdo denní šifru vyřeší.\n\nBude nějaký vedoucí kontrolovat dodržování pravidel? \n\nNebude. Pravidla dodržujte na vlastní čest. Pokud však uvidíme někoho\, kdo pravidla schválně porušuje\, nalezené žetony mu neuznáme.\n\n \nVšechny účastníky nabádáme k dodržování pravidel výzvy\, především těch hygienických. Důkladné mytí rukou před odchodem z domu a po příchodu\, omezený kontakt s ostatními hledači. S sebou si nezapomeňte vzít zápisník s tužkou a ústní roušku nebo ochranný štít pro případ\, kdy nejste schopni dodržet 2-metrové rozestupy od ostatních hledačů. Rozestupy se nevztahují na členy hledačské skupiny\, tj. dvojice nebo rodina. \nOprava (poté co jsem rozeslal maily a hodil informace na stránky se opatření změnila): Pokud členové hledačské dvojice nejsou ze stejné rodiny\, musí mít po celou dobu hledání nasazené roušky. Jelikož si nemyslíme\, že má dlouhodobé nošení roušek při pobytu v přírodě pozitivní vliv na zdraví\, ale zároveň ctíme opatření\, doporučujeme\, aby dvojice tvořili členové rodin a ostatní hledali samostatně.
URL:http://sokolik.siluvky.cz/event/sifrovacka-okolim-siluvek/
LOCATION:Silůvky\, Sokolská 132\, Silůvky (CZ)\, Česká republika\, 66446
ORGANIZER;CN="Sokol%C3%ADk%20Sil%C5%AFvky":MAILTO:vojtech.konecny@ymcaskaut.cz
END:VEVENT
END:VCALENDAR