BEGIN:VCALENDAR
VERSION:2.0
PRODID:-//Sokolík Silůvky - ECPv5.16.4//NONSGML v1.0//EN
CALSCALE:GREGORIAN
METHOD:PUBLISH
X-WR-CALNAME:Sokolík Silůvky
X-ORIGINAL-URL:http://sokolik.siluvky.cz
X-WR-CALDESC:Akce na Sokolík Silůvky
BEGIN:VTIMEZONE
TZID:Europe/Prague
BEGIN:DAYLIGHT
TZOFFSETFROM:+0100
TZOFFSETTO:+0200
TZNAME:CEST
DTSTART:20260329T010000
END:DAYLIGHT
BEGIN:STANDARD
TZOFFSETFROM:+0200
TZOFFSETTO:+0100
TZNAME:CET
DTSTART:20261025T010000
END:STANDARD
END:VTIMEZONE
BEGIN:VEVENT
DTSTART;TZID=Europe/Prague:20260523T130000
DTEND;TZID=Europe/Prague:20260523T170000
DTSTAMP:20260419T161020
CREATED:20251216T161730Z
LAST-MODIFIED:20251216T161730Z
UID:4950-1779541200-1779555600@sokolik.siluvky.cz
SUMMARY:Silůvský Ninja Faktor
DESCRIPTION:Ne každý se může stát obratným ninjem\, ty se o to však můžeš pokusit\, podstoupit náročný výcvik\, při kterém ze sebe budeš muset vydat to nejlepší\, abys obstojně čelil všem nastraženým překážkám a nakonec jsi uspěl při jejich překonávání. Tak protáhni svaly a určitě se za námi přijď podívat. \nNa začátku akce se nebude procházet trasa společně\, ale každý účastník si jednotlivá  stanoviště projde sám nebo v malé skupince. Veškeré informace pro nalezení stanovišť s překážkami budou k dispozici na nástěnce pod pergolou na hřišti. \nKdy? 23.5.2026 od 13:00 do cca 17:00 \nS sebou: sportovní oblečení podle počasí a pití \nV případě vytrvalého deště se akce nekoná! \nZodpovědní vedoucí: Pižža\, Cebík \nNa všechny se těší vedení oddílu Sokolík Silůvky
URL:http://sokolik.siluvky.cz/event/siluvsky-ninja-faktor/
END:VEVENT
END:VCALENDAR