BEGIN:VCALENDAR
VERSION:2.0
PRODID:-//Sokolík Silůvky - ECPv5.16.4//NONSGML v1.0//EN
CALSCALE:GREGORIAN
METHOD:PUBLISH
X-WR-CALNAME:Sokolík Silůvky
X-ORIGINAL-URL:http://sokolik.siluvky.cz
X-WR-CALDESC:Akce na Sokolík Silůvky
BEGIN:VTIMEZONE
TZID:Europe/Prague
BEGIN:DAYLIGHT
TZOFFSETFROM:+0100
TZOFFSETTO:+0200
TZNAME:CEST
DTSTART:20200329T010000
END:DAYLIGHT
BEGIN:STANDARD
TZOFFSETFROM:+0200
TZOFFSETTO:+0100
TZNAME:CET
DTSTART:20201025T010000
END:STANDARD
END:VTIMEZONE
BEGIN:VEVENT
DTSTART;TZID=Europe/Prague:20200918T163000
DTEND;TZID=Europe/Prague:20200920T133000
DTSTAMP:20260419T195736
CREATED:20200831T200405Z
LAST-MODIFIED:20200917T145648Z
UID:1416-1600446600-1600608600@sokolik.siluvky.cz
SUMMARY:SKAZA
DESCRIPTION:Zrušeno – místo ní budou schůzky\nMezioddílové setkání a klání skupin na Skautském závodě. Tentokrát se bude konat na táborové základně ve Veverské Bítýšce. Akce je určena pro všechny skauty kromě nováčků. \nČasový plán: \nPátek 18.9. : v 16:40 sraz na vlakovém nádraží v Silůvkách (vlak v 16:56) odjezd\, 19:00 příchod na základnu\, postavení stanů\, večeře\, večerní program \nSobota 19.9. : dopoledne skautský závod\, kde jsou děti mezioddílově rozděleny do skupin\, odpoledne workshopy\, večer táborový oheň v krojích \nNeděle 20.9. : zamyšlení\, úklid\, odjezd\, příjezd do Silůvek v 13:15 \nNa sebe: \nROUŠKA\, oddílové triko\, pohodlné oblečení na cestu\, pevná obuv\, pokrývka hlavy\, batoh \nDo batohu; \nspacák\, karimatka\, stan do skupiny (všichni)\, jídlo (viz níže)\, čisté tričko\, spodní prádlo a ponožky\, kroj\, KPZ\, kartáček s pastou\, přezuvky\, nožík\, čelovka\, lžíce\, pláštěnka\, pití \nvše sbaleno v batohu\, netahej zbytečnosti (základna je 3 km od autobusové zastávky a budeš to muset ujít s batohem na zádech) \nJídlo: \npáteční večeře z vlastních zásob \nsobotní a nedělní snídani sami a nebo s rodiči doma upečte – můžete upéct jakýkoliv moučník (buchta\, bábovka\, muffiny\, …)\, na snídani se o to potom všichni společně podělíme \nnavíc přibal špekáčky a kus chleba na sobotní večeři \nsobotní oběd bude společný (nemusíš se starat) \nCena: 250 Kč (vybereme na nádraží) \nPřihlašování: \n12.9. na sobotní schůzce nebo do 14.9. na mail Míši -hrouzkova.misa@gmail.com (popřípadě SMS – 733439020) \nSobotní schůzky se ruší! \nPlakát akce \n 
URL:http://sokolik.siluvky.cz/event/skaza-2/
END:VEVENT
END:VCALENDAR