BEGIN:VCALENDAR
VERSION:2.0
PRODID:-//Sokolík Silůvky - ECPv5.16.4//NONSGML v1.0//EN
CALSCALE:GREGORIAN
METHOD:PUBLISH
X-WR-CALNAME:Sokolík Silůvky
X-ORIGINAL-URL:http://sokolik.siluvky.cz
X-WR-CALDESC:Akce na Sokolík Silůvky
BEGIN:VTIMEZONE
TZID:Europe/Prague
BEGIN:DAYLIGHT
TZOFFSETFROM:+0100
TZOFFSETTO:+0200
TZNAME:CEST
DTSTART:20190331T010000
END:DAYLIGHT
BEGIN:STANDARD
TZOFFSETFROM:+0200
TZOFFSETTO:+0100
TZNAME:CET
DTSTART:20191027T010000
END:STANDARD
END:VTIMEZONE
BEGIN:VEVENT
DTSTART;TZID=Europe/Prague:20190920T155000
DTEND;TZID=Europe/Prague:20190922T142000
DTSTAMP:20260420T061248
CREATED:20190107T125244Z
LAST-MODIFIED:20190920T072645Z
UID:487-1568994600-1569162000@sokolik.siluvky.cz
SUMMARY:SKAZA
DESCRIPTION:Mezioddílové setkání a klání skupin na Skautském závodě. Tentokrát na táborové základně Rakovan \nČasový plán: \nPátek: v 15:50 sraz na vlakovém nádraží v Silůvkách (vlak v 16:05) odjezd\, 18:30 příchod na základnu\, postavení stanů\, večeře\, večerní program \nSobota: dopoledne skautský závod\, kde jsou děti mezioddílově rozděleny do skupin\, odpoledne workshopy\, večer táborový oheň v krojích \nNeděle: zamyšlení\, úklid\, odjezd\, příjezd do Silůvek v 12:50 nebo 14:20 \nNa sebe: \noddílové triko\, pohodlné oblečení na cestu\, pevná obuv\, pokrývka hlavy\, batoh \nDo batohu; \nspacák\, karimatka\, stan do skupiny (všichni)\, jídlo (viz níže)\, čisté tričko\, spodní prádlo a ponožky\, kroj\, KPZ\, kartáček s pastou\, přezuvky\, nožík\, čelovka\, lžíce\, pláštěnka\, pití \nvše sbaleno v batohu\, netahej zbytečnosti\, základna je 2 km od autobusové zastávky a budeš to muset ujít s batohem na zádech \nJídlo: \npáteční večeře\, sobotní a nedělní snídaně z vlastních zásob \nnavíc přibal špekáčky a kus chleba na sobotní večeři \npáteční večeře a sobotní oběd bude společný (nemusíš se starat) \nCena: 250 Kč (vybereme na nádraží) \nPřihlašování: \n14.9. na sobotní schůzce nebo do 16.9. telefonicky Peťkovi (736 163 818) \nPlakát: \nleták SKAZA 2019 info
URL:http://sokolik.siluvky.cz/event/skaza/
LOCATION:Jedovnice\, Jedovnice\, Česká republika
ATTACH;FMTTYPE=image/jpeg:http://sokolik.siluvky.cz/wp-content/uploads/2019/01/o-nás-scaled.jpg
END:VEVENT
END:VCALENDAR