BEGIN:VCALENDAR
VERSION:2.0
PRODID:-//Sokolík Silůvky - ECPv5.16.4//NONSGML v1.0//EN
CALSCALE:GREGORIAN
METHOD:PUBLISH
X-WR-CALNAME:Sokolík Silůvky
X-ORIGINAL-URL:http://sokolik.siluvky.cz
X-WR-CALDESC:Akce na Sokolík Silůvky
BEGIN:VTIMEZONE
TZID:Europe/Prague
BEGIN:DAYLIGHT
TZOFFSETFROM:+0100
TZOFFSETTO:+0200
TZNAME:CEST
DTSTART:20260329T010000
END:DAYLIGHT
BEGIN:STANDARD
TZOFFSETFROM:+0200
TZOFFSETTO:+0100
TZNAME:CET
DTSTART:20261025T010000
END:STANDARD
END:VTIMEZONE
BEGIN:VEVENT
DTSTART;TZID=Europe/Prague:20260328T090000
DTEND;TZID=Europe/Prague:20260328T140000
DTSTAMP:20260419T211320
CREATED:20251216T155835Z
LAST-MODIFIED:20260309T114055Z
UID:4941-1774688400-1774706400@sokolik.siluvky.cz
SUMMARY:Ukliďme Česko\, ukliďme Silůvky
DESCRIPTION:Navzdory veškerým našim snahám se v přírodě stále objevuje nepořádek a odpadky. Pojďte nám pomoct uklidit silůvské okolí\, a pomoct přírodě 🙂 \nSraz: v sobotu 28. března 2026 v 8:00 hod. na návsi u autobusové čekárny \nZajištěno: rukavice a pytle na odpadky budou na akci k dispozici \nS sebou: dobrou náladu\, vlastní pracovní rukavice a pevnou obuv. \nPo akci se občerstvíme a opečeme si buřty u táboráku. \nSobotní schůzky se ruší! \n \n  \n  \nZodpovědní vedoucí: Magda
URL:http://sokolik.siluvky.cz/event/uklidme-cesko-uklidme-siluvky-3/
END:VEVENT
END:VCALENDAR