BEGIN:VCALENDAR
VERSION:2.0
PRODID:-//Sokolík Silůvky - ECPv5.16.4//NONSGML v1.0//EN
CALSCALE:GREGORIAN
METHOD:PUBLISH
X-WR-CALNAME:Sokolík Silůvky
X-ORIGINAL-URL:http://sokolik.siluvky.cz
X-WR-CALDESC:Akce na Sokolík Silůvky
BEGIN:VTIMEZONE
TZID:Europe/Prague
BEGIN:DAYLIGHT
TZOFFSETFROM:+0100
TZOFFSETTO:+0200
TZNAME:CEST
DTSTART:20190331T010000
END:DAYLIGHT
BEGIN:STANDARD
TZOFFSETFROM:+0200
TZOFFSETTO:+0100
TZNAME:CET
DTSTART:20191027T010000
END:STANDARD
END:VTIMEZONE
BEGIN:VEVENT
DTSTART;TZID=Europe/Prague:20191221T130000
DTEND;TZID=Europe/Prague:20191221T160000
DTSTAMP:20260419T162038
CREATED:20190823T114002Z
LAST-MODIFIED:20191202T221412Z
UID:906-1576933200-1576944000@sokolik.siluvky.cz
SUMMARY:Vánoční schůzka
DESCRIPTION:Přijď si s kamarády\, se kterými chodíš během roku na schůzky zazpívat vánoční koledy\, vyzkoušet vánoční zvyky\, zahrát pár her a podívat se\, co nadělil Ježíšek v klubovně 🙂 \nKdy: 21.12. od 13 do 16 hodin v klubovně \nS sebou: Hrníček na čaj\, přezůvky\, do krabičky trochu cukroví\, drobné dárky pro kamarády a hlavně spoustu dobré nálady! \nProtože se jedná o slavnostní schůzku\, nezapomeň si na sebe vzít kroj (nebo oddílové tričko) \nPo skončení vánoční schůzky budeme od 16 do 17 hodin promítat fotky z tábora\, všechny děti a rodiče jsou zváni!
URL:http://sokolik.siluvky.cz/event/vanocni-schuzka/
LOCATION:klubovna\, Sokolská 132\, Silůvky\, Jihomoravský\, 66446
END:VEVENT
END:VCALENDAR