BEGIN:VCALENDAR
VERSION:2.0
PRODID:-//Sokolík Silůvky - ECPv5.16.4//NONSGML v1.0//EN
CALSCALE:GREGORIAN
METHOD:PUBLISH
X-WR-CALNAME:Sokolík Silůvky
X-ORIGINAL-URL:http://sokolik.siluvky.cz
X-WR-CALDESC:Akce na Sokolík Silůvky
BEGIN:VTIMEZONE
TZID:Europe/Prague
BEGIN:DAYLIGHT
TZOFFSETFROM:+0100
TZOFFSETTO:+0200
TZNAME:CEST
DTSTART:20260329T010000
END:DAYLIGHT
BEGIN:STANDARD
TZOFFSETFROM:+0200
TZOFFSETTO:+0100
TZNAME:CET
DTSTART:20261025T010000
END:STANDARD
END:VTIMEZONE
BEGIN:VEVENT
DTSTART;TZID=Europe/Prague:20260404T130000
DTEND;TZID=Europe/Prague:20260404T160000
DTSTAMP:20260419T210844
CREATED:20251216T160607Z
LAST-MODIFIED:20251216T160607Z
UID:4943-1775307600-1775318400@sokolik.siluvky.cz
SUMMARY:Velikonoční schůzka
DESCRIPTION:Hody hody doprovody\,\ndejte vejce malovaný\,\nnemáte-li co malovaný\npřijďte si ho pomalovati! \nV sobotu 4.4.2026 od 13:00 se bude konat Velikonoční schůzka. Za sokolovnou si bude moct každý uplést svou pomlázku a v klubovně namalovat vajíčka. Proutky zajištěny\, ale kdo dřív přijde\, ten dřív plete! \nS sebou:\nNa pomlázky: nůž/nůžky\, kus provázku\, trpělivost (pruty budou k dispozici – platí kdo dřív přijde\, ten dřív bere\, přijít mohou i tatínci a kamarádi)\nNa vajíčka: pár uvařených nebo vyfouklých (bílých) vajec\, plato od vajíček (stačí menší) \nPokud neumíte plést pomlázku nebo barvit vajíčka\, nezoufejte\, bude tu spoustu vedoucích i přátel skautů\, kteří vás to rádi na učí. \nZodpovědní vedoucí: Frodo a Štěpka
URL:http://sokolik.siluvky.cz/event/velikonocni-schuzka-8/
END:VEVENT
END:VCALENDAR