BEGIN:VCALENDAR
VERSION:2.0
PRODID:-//Sokolík Silůvky - ECPv5.16.4//NONSGML v1.0//EN
CALSCALE:GREGORIAN
METHOD:PUBLISH
X-WR-CALNAME:Sokolík Silůvky
X-ORIGINAL-URL:http://sokolik.siluvky.cz
X-WR-CALDESC:Akce na Sokolík Silůvky
BEGIN:VTIMEZONE
TZID:Europe/Prague
BEGIN:DAYLIGHT
TZOFFSETFROM:+0100
TZOFFSETTO:+0200
TZNAME:CEST
DTSTART:20190331T010000
END:DAYLIGHT
BEGIN:STANDARD
TZOFFSETFROM:+0200
TZOFFSETTO:+0100
TZNAME:CET
DTSTART:20191027T010000
END:STANDARD
END:VTIMEZONE
BEGIN:VEVENT
DTSTART;TZID=Europe/Prague:20191026T182500
DTEND;TZID=Europe/Prague:20191029T225400
DTSTAMP:20260419T213531
CREATED:20190823T100431Z
LAST-MODIFIED:20191101T232033Z
UID:897-1572114300-1572389640@sokolik.siluvky.cz
SUMMARY:Výprava pro Rovery
DESCRIPTION:Pro koho výprava je? \nPro rovery\, tzn. mládežníky starší 15 let 😉 \n  \nBrief info: \nSraz – 26.10. v 18:25 na nádraží v Silůvkách \nKonec – 29.10. v pozdně večerních hodinách 😉 \nKam se jede? – Za dobrodružstvím. \n  \nCo s sebou ? \nbaťoh s výbavou do přízně i nepřízně počasí ve městě \nmalý spacák nebo deku \nkarimatku \njídlo na sobotu \nkus buchty/jiné laskominy\, kterou sám/sama napečeš a rozdělíš se s ní při nedělní snídani \ntužku\, zápisník \n  \nKomu dát vědět? \nDo úterý 24:00 do skupinového chatu sokolík ml. vp. \n  \nJelikož výprava začíná až v sobotu večer\, schůzky proběhnou!
URL:http://sokolik.siluvky.cz/event/vyprava-pro-rovery/
END:VEVENT
END:VCALENDAR