BEGIN:VCALENDAR
VERSION:2.0
PRODID:-//Sokolík Silůvky - ECPv5.16.4//NONSGML v1.0//EN
CALSCALE:GREGORIAN
METHOD:PUBLISH
X-WR-CALNAME:Sokolík Silůvky
X-ORIGINAL-URL:http://sokolik.siluvky.cz
X-WR-CALDESC:Akce na Sokolík Silůvky
BEGIN:VTIMEZONE
TZID:Europe/Prague
BEGIN:DAYLIGHT
TZOFFSETFROM:+0100
TZOFFSETTO:+0200
TZNAME:CEST
DTSTART:20200329T010000
END:DAYLIGHT
BEGIN:STANDARD
TZOFFSETFROM:+0200
TZOFFSETTO:+0100
TZNAME:CET
DTSTART:20201025T010000
END:STANDARD
END:VTIMEZONE
BEGIN:VEVENT
DTSTART;TZID=Europe/Prague:20200905T140000
DTEND;TZID=Europe/Prague:20200905T173000
DTSTAMP:20260419T195547
CREATED:20200810T055147Z
LAST-MODIFIED:20200820T205051Z
UID:1405-1599314400-1599327000@sokolik.siluvky.cz
SUMMARY:Zálesácká stezka
DESCRIPTION:Přijďte na první skautskou akci v tomto školním roce\, Zálesáckou stezku! \nStezka proběhne formou jednoduchého závodu a je vhodná pro všechny skauty i neskauty\, školkáče a zájemce o celoroční skautskou činnost. Po skončení akce s rodiči probereme schůzky. \nV případě deště akce proběhne zkrácenou formou od 14:00 v sokolovně v Silůvkách. \nSobotní schůzka 5. 9. se nekoná\, první proběhne až příští týden\, 12. 9. \nPlakát akce
URL:http://sokolik.siluvky.cz/event/zalesacka-stezka-2/
LOCATION:hřiště Pod Lipami\, Pod Lipami 155\, Silůvky\, Česká republika
END:VEVENT
END:VCALENDAR