BEGIN:VCALENDAR
VERSION:2.0
PRODID:-//Sokolík Silůvky - ECPv5.16.4//NONSGML v1.0//EN
CALSCALE:GREGORIAN
METHOD:PUBLISH
X-WR-CALNAME:Sokolík Silůvky
X-ORIGINAL-URL:http://sokolik.siluvky.cz
X-WR-CALDESC:Akce na Sokolík Silůvky
BEGIN:VTIMEZONE
TZID:Europe/Prague
BEGIN:DAYLIGHT
TZOFFSETFROM:+0100
TZOFFSETTO:+0200
TZNAME:CEST
DTSTART:20200329T010000
END:DAYLIGHT
BEGIN:STANDARD
TZOFFSETFROM:+0200
TZOFFSETTO:+0100
TZNAME:CET
DTSTART:20201025T010000
END:STANDARD
END:VTIMEZONE
BEGIN:VEVENT
DTSTART;TZID=Europe/Prague:20200111T083000
DTEND;TZID=Europe/Prague:20200111T143000
DTSTAMP:20260419T152918
CREATED:20190823T114423Z
LAST-MODIFIED:20200110T151859Z
UID:910-1578731400-1578753000@sokolik.siluvky.cz
SUMMARY:Zimní stopou okolo Silůvek
DESCRIPTION:Vstupme do nového desetiletí tou správnou nohou se Zimní stopou okolo Silůvek\, konané již po 41. \nAkce se koná 11. ledna od 8:30 do 14:30. Zaregistrujte se online teď a tady a vyhněte se frontě! (do pátku 10. 1.\, 18:00) \nOnline registrovaní si vyzvednou vše potřebné pro závod u stolu s registracemi. Registrace dvojic proběhne v malém sále sokolovny. \nPodle předpovědi bude těsně nad nulou\, takže počítejte s těžkým\, blátivým terénem. \nNa sebe oblečení\, co si můžeš během závodu umazat a sportovní obuv. \nS sebou si nezapomeňte přibalit: přezuvky\, svačinu (připravili jsme párky v rohlíku\, ale raději na to příliš nespoléhejte 😉 )\, startovné\, náhradní ponožky\, starší 7. třídy včetně buzolu a propisku/fixu. \nZa drobné startovné 20 Kč obdržíte startovní kartu\, závodní čísla a unikátní placku Zimní stopy. \nTakto se dostanete z vlakového nádraží v Silůvkách do sokolovny.\n\n\n\nPlakát zde: Zimni stopa 2020 \nVýsledky z minulého roku zde: Výslekdy_ 2019
URL:http://sokolik.siluvky.cz/event/zimni-stopou-okolo-siluvek/
LOCATION:sokolovna\, Sokolská 132\, Silůvky\, Jihomoravský\, 66446\, Česká republika
END:VEVENT
END:VCALENDAR